BEGIN:VCALENDAR
VERSION:2.0
PRODID:-//81.88.36.52//NONSGML kigkonsult.se iCalcreator 2.20//
CALSCALE:GREGORIAN
METHOD:PUBLISH
X-WR-TIMEZONE:Europe/Vienna
BEGIN:VEVENT
UID:event1895@Online-Magazin SCHNAPPEN.AT: die interessanten Seiten des Leb
 ens
DTSTAMP:20260425T121828Z
CATEGORIES:Veranstaltungen
DESCRIPTION:Asaf Avidan in Österreich und Deutschland\nKategorie: Veranstal
 tungen\nICS-Link: https://schnappen.at/oesterreich/index.php?option=com_je
 m&view=event&id=1895:asaf-avidan\n
DTSTART;TZID=Europe/Vienna:20260731T200000
DTEND;TZID=Europe/Vienna:20260731T200000
SUMMARY:Asaf Avidan in Österreich und Deutschland
URL:https://schnappen.at/oesterreich/index.php?option=com_jem&view=event&id
 =1895:asaf-avidan
END:VEVENT
END:VCALENDAR