BEGIN:VCALENDAR
VERSION:2.0
PRODID:-//81.88.36.52//NONSGML kigkonsult.se iCalcreator 2.20//
CALSCALE:GREGORIAN
METHOD:PUBLISH
X-WR-TIMEZONE:Europe/Vienna
BEGIN:VEVENT
UID:event1883@Online-Magazin SCHNAPPEN.AT: die interessanten Seiten des Leb
 ens
DTSTAMP:20260425T105505Z
CATEGORIES:Veranstaltungen
DESCRIPTION:Egon Schiele Museum Tulln\nKategorie: Veranstaltungen\nICS-Link
 : https://schnappen.at/oesterreich/index.php?option=com_jem&view=event&id=
 1883:egon-schiele-tulln\n
DTSTART;VALUE=DATE:20260523
DTEND;VALUE=DATE:20260524
LOCATION:Tulln: Egon Schiele Museum\,Donaulände 28\,3430  Tulln an der Dona
 u
SUMMARY:Egon Schiele Museum Tulln
URL:https://schnappen.at/oesterreich/index.php?option=com_jem&view=event&id
 =1883:egon-schiele-tulln
END:VEVENT
END:VCALENDAR