BEGIN:VCALENDAR
VERSION:2.0
PRODID:-//81.88.36.52//NONSGML kigkonsult.se iCalcreator 2.20//
CALSCALE:GREGORIAN
METHOD:PUBLISH
X-WR-TIMEZONE:Europe/Vienna
BEGIN:VEVENT
UID:event1881@Online-Magazin SCHNAPPEN.AT: die interessanten Seiten des Leb
 ens
DTSTAMP:20260425T122209Z
CATEGORIES:Veranstaltungen
DESCRIPTION:Bregenzer Festspiele 2026: La Traviata\nKategorie: Veranstaltun
 gen\nICS-Link: https://schnappen.at/oesterreich/index.php?option=com_jem&v
 iew=event&id=1881:bregenzer-festspiele\n
DTSTART;VALUE=DATE:20260722
DTEND;VALUE=DATE:20260817
LOCATION:Seebühne Bregenz\,Mehrerauerstraße\,6900 Bregenz
SUMMARY:Bregenzer Festspiele 2026: La Traviata
URL:https://schnappen.at/oesterreich/index.php?option=com_jem&view=event&id
 =1881:bregenzer-festspiele
END:VEVENT
END:VCALENDAR