BEGIN:VCALENDAR
VERSION:2.0
PRODID:-//81.88.36.52//NONSGML kigkonsult.se iCalcreator 2.20//
CALSCALE:GREGORIAN
METHOD:PUBLISH
X-WR-TIMEZONE:Europe/Vienna
BEGIN:VEVENT
UID:event187@Online-Magazin SCHNAPPEN.AT: die interessanten Seiten des Lebe
 ns
DTSTAMP:20260425T105318Z
CATEGORIES:Wir berichten über...\, Veranstaltungen
DESCRIPTION:Nova Rock Festival 2026 Pannonia Fields\, Nickelsdorf\nKategori
 e: Wir berichten über...\, Veranstaltungen\nICS-Link: https://schnappen.at
 /oesterreich/index.php?option=com_jem&view=event&id=187:nova-rock\n
DTSTART;VALUE=DATE:20260611
DTEND;VALUE=DATE:20260615
LOCATION:Nickelsdorf\,Zentrum\,2425 Nickelsdorf
SUMMARY:Nova Rock Festival 2026 Pannonia Fields\, Nickelsdorf
URL:https://schnappen.at/oesterreich/index.php?option=com_jem&view=event&id
 =187:nova-rock
END:VEVENT
END:VCALENDAR