BEGIN:VCALENDAR
VERSION:2.0
PRODID:-//81.88.36.52//NONSGML kigkonsult.se iCalcreator 2.20//
CALSCALE:GREGORIAN
METHOD:PUBLISH
X-WR-TIMEZONE:Europe/Vienna
BEGIN:VEVENT
UID:event1877@Online-Magazin SCHNAPPEN.AT: die interessanten Seiten des Leb
 ens
DTSTAMP:20260425T121806Z
CATEGORIES:Veranstaltungen
DESCRIPTION:Ballonglühen & Internationale Ballonwoche\nKategorie: Veranstal
 tungen\nICS-Link: https://schnappen.at/oesterreich/index.php?option=com_je
 m&view=event&id=1877:ballon\n
DTSTART;VALUE=DATE:20270116
DTEND;VALUE=DATE:20270124
SUMMARY:Ballonglühen & Internationale Ballonwoche
URL:https://schnappen.at/oesterreich/index.php?option=com_jem&view=event&id
 =1877:ballon
END:VEVENT
END:VCALENDAR