BEGIN:VCALENDAR
VERSION:2.0
PRODID:-//81.88.36.52//NONSGML kigkonsult.se iCalcreator 2.20//
CALSCALE:GREGORIAN
METHOD:PUBLISH
X-WR-TIMEZONE:Europe/Vienna
BEGIN:VEVENT
UID:event1873@Online-Magazin SCHNAPPEN.AT: die interessanten Seiten des Leb
 ens
DTSTAMP:20260425T121946Z
CATEGORIES:Veranstaltungen
DESCRIPTION:Kabarettist Robert Palfrader\nKategorie: Veranstaltungen\nICS-L
 ink: https://schnappen.at/oesterreich/index.php?option=com_jem&view=event&
 id=1873:palfrader\n
DTSTART;VALUE=DATE:20260426
DTEND;VALUE=DATE:20260427
LOCATION:Stadtsaal Wien\,Mariahilfer Str. 81\,1060 Wien
SUMMARY:Kabarettist Robert Palfrader
URL:https://schnappen.at/oesterreich/index.php?option=com_jem&view=event&id
 =1873:palfrader
END:VEVENT
END:VCALENDAR