BEGIN:VCALENDAR
VERSION:2.0
PRODID:-//81.88.36.52//NONSGML kigkonsult.se iCalcreator 2.20//
CALSCALE:GREGORIAN
METHOD:PUBLISH
X-WR-TIMEZONE:Europe/Vienna
BEGIN:VEVENT
UID:event186@Online-Magazin SCHNAPPEN.AT: die interessanten Seiten des Lebe
 ns
DTSTAMP:20260425T122118Z
CATEGORIES:Wir berichten über...\, Veranstaltungen
DESCRIPTION:Wiener Wiesn Fest 2026\nKategorie: Wir berichten über...\, Vera
 nstaltungen\nICS-Link: https://schnappen.at/oesterreich/index.php?option=c
 om_jem&view=event&id=186:wiener-wiesn\n
DTSTART;VALUE=DATE:20260924
DTEND;VALUE=DATE:20261012
LOCATION:Prater Wien\,Prater\,1020 Wien
SUMMARY:Wiener Wiesn Fest 2026
URL:https://schnappen.at/oesterreich/index.php?option=com_jem&view=event&id
 =186:wiener-wiesn
END:VEVENT
END:VCALENDAR