BEGIN:VCALENDAR
VERSION:2.0
PRODID:-//81.88.36.52//NONSGML kigkonsult.se iCalcreator 2.20//
CALSCALE:GREGORIAN
METHOD:PUBLISH
X-WR-TIMEZONE:Europe/Vienna
BEGIN:VEVENT
UID:event1866@Online-Magazin SCHNAPPEN.AT: die interessanten Seiten des Leb
 ens
DTSTAMP:20260425T121952Z
CATEGORIES:Veranstaltungen
DESCRIPTION:Kabarettist Nikorrekt - Niko Nagl\nKategorie: Veranstaltungen\n
 ICS-Link: https://schnappen.at/oesterreich/index.php?option=com_jem&view=e
 vent&id=1866:nikorrekt\n
DTSTART;VALUE=DATE:20260502
DTEND;VALUE=DATE:20260503
SUMMARY:Kabarettist Nikorrekt - Niko Nagl
URL:https://schnappen.at/oesterreich/index.php?option=com_jem&view=event&id
 =1866:nikorrekt
END:VEVENT
END:VCALENDAR