BEGIN:VCALENDAR
VERSION:2.0
PRODID:-//81.88.36.52//NONSGML kigkonsult.se iCalcreator 2.20//
CALSCALE:GREGORIAN
METHOD:PUBLISH
X-WR-TIMEZONE:Europe/Vienna
BEGIN:VEVENT
UID:event185@Online-Magazin SCHNAPPEN.AT: die interessanten Seiten des Lebe
 ns
DTSTAMP:20260424T101222Z
CATEGORIES:Termine noch offen
DESCRIPTION:The Dublin Legends\, ehem. Dubliners in Österreich und Deutschl
 and \nKategorie: Termine noch offen\nICS-Link: https://schnappen.at/oester
 reich/index.php?option=com_jem&view=event&id=185:dubliners\n
DTSTART;VALUE=DATE:20251220
DTEND;VALUE=DATE:20251221
SUMMARY:The Dublin Legends\, ehem. Dubliners in Österreich und Deutschland 
URL:https://schnappen.at/oesterreich/index.php?option=com_jem&view=event&id
 =185:dubliners
END:VEVENT
END:VCALENDAR