BEGIN:VCALENDAR
VERSION:2.0
PRODID:-//81.88.36.52//NONSGML kigkonsult.se iCalcreator 2.20//
CALSCALE:GREGORIAN
METHOD:PUBLISH
X-WR-TIMEZONE:Europe/Vienna
BEGIN:VEVENT
UID:event1854@Online-Magazin SCHNAPPEN.AT: die interessanten Seiten des Leb
 ens
DTSTAMP:20260425T121915Z
CATEGORIES:Termine noch offen
DESCRIPTION:kunst- und design markt\nKategorie: Termine noch offen\nICS-Lin
 k: https://schnappen.at/oesterreich/index.php?option=com_jem&view=event&id
 =1854:art-craft\n
DTSTART;VALUE=DATE:20261114
DTEND;VALUE=DATE:20261116
LOCATION:Ottakringer Brauerei Wien\,Ottakringer Platz 1\,1160 Wien
SUMMARY:kunst- und design markt
URL:https://schnappen.at/oesterreich/index.php?option=com_jem&view=event&id
 =1854:art-craft
END:VEVENT
END:VCALENDAR