BEGIN:VCALENDAR
VERSION:2.0
PRODID:-//81.88.36.52//NONSGML kigkonsult.se iCalcreator 2.20//
CALSCALE:GREGORIAN
METHOD:PUBLISH
X-WR-TIMEZONE:Europe/Vienna
BEGIN:VEVENT
UID:event1846@Online-Magazin SCHNAPPEN.AT: die interessanten Seiten des Leb
 ens
DTSTAMP:20260425T122240Z
CATEGORIES:Veranstaltungen
DESCRIPTION:Literaturtage 2026 Kohfidisch: Literaturweg Csaterberg\nKategor
 ie: Veranstaltungen\nICS-Link: https://schnappen.at/oesterreich/index.php?
 option=com_jem&view=event&id=1846:literatur-kohfidisch\n
DTSTART;VALUE=DATE:20260911
DTEND;VALUE=DATE:20260914
SUMMARY:Literaturtage 2026 Kohfidisch: Literaturweg Csaterberg
URL:https://schnappen.at/oesterreich/index.php?option=com_jem&view=event&id
 =1846:literatur-kohfidisch
END:VEVENT
END:VCALENDAR