BEGIN:VCALENDAR
VERSION:2.0
PRODID:-//81.88.36.52//NONSGML kigkonsult.se iCalcreator 2.20//
CALSCALE:GREGORIAN
METHOD:PUBLISH
X-WR-TIMEZONE:Europe/Vienna
BEGIN:VEVENT
UID:event1843@Online-Magazin SCHNAPPEN.AT: die interessanten Seiten des Leb
 ens
DTSTAMP:20260425T122247Z
CATEGORIES:Termine noch offen
DESCRIPTION:Kultursommer in Wien\nKategorie: Termine noch offen\nICS-Link: 
 https://schnappen.at/oesterreich/index.php?option=com_jem&view=event&id=18
 43:kultursommer-wien\n
DTSTART;VALUE=DATE:20260710
DTEND;VALUE=DATE:20260810
SUMMARY:Kultursommer in Wien
URL:https://schnappen.at/oesterreich/index.php?option=com_jem&view=event&id
 =1843:kultursommer-wien
END:VEVENT
END:VCALENDAR