BEGIN:VCALENDAR
VERSION:2.0
PRODID:-//81.88.36.52//NONSGML kigkonsult.se iCalcreator 2.20//
CALSCALE:GREGORIAN
METHOD:PUBLISH
X-WR-TIMEZONE:Europe/Vienna
BEGIN:VEVENT
UID:event183@Online-Magazin SCHNAPPEN.AT: die interessanten Seiten des Lebe
 ns
DTSTAMP:20260425T121233Z
CATEGORIES:Wir berichten über...\, Veranstaltungen
DESCRIPTION:FM4 Frequency Festival 2026\nKategorie: Wir berichten über...\,
  Veranstaltungen\nICS-Link: https://schnappen.at/oesterreich/index.php?opt
 ion=com_jem&view=event&id=183:frequency\n
DTSTART;VALUE=DATE:20260820
DTEND;VALUE=DATE:20260823
SUMMARY:FM4 Frequency Festival 2026
URL:https://schnappen.at/oesterreich/index.php?option=com_jem&view=event&id
 =183:frequency
END:VEVENT
END:VCALENDAR