BEGIN:VCALENDAR
VERSION:2.0
PRODID:-//81.88.36.52//NONSGML kigkonsult.se iCalcreator 2.20//
CALSCALE:GREGORIAN
METHOD:PUBLISH
X-WR-TIMEZONE:Europe/Vienna
BEGIN:VEVENT
UID:event1835@Online-Magazin SCHNAPPEN.AT: die interessanten Seiten des Leb
 ens
DTSTAMP:20260425T121817Z
CATEGORIES:Veranstaltungen
DESCRIPTION:David Garrett in Österreich\nKategorie: Veranstaltungen\nICS-Li
 nk: https://schnappen.at/oesterreich/index.php?option=com_jem&view=event&i
 d=1835:david-garrett\n
DTSTART;VALUE=DATE:20260819
DTEND;VALUE=DATE:20260820
LOCATION:Mörbisch am Neusiedlersee\,Strand\,7072 Mörbisch
SUMMARY:David Garrett in Österreich
URL:https://schnappen.at/oesterreich/index.php?option=com_jem&view=event&id
 =1835:david-garrett
END:VEVENT
END:VCALENDAR