BEGIN:VCALENDAR
VERSION:2.0
PRODID:-//81.88.36.52//NONSGML kigkonsult.se iCalcreator 2.20//
CALSCALE:GREGORIAN
METHOD:PUBLISH
X-WR-TIMEZONE:Europe/Vienna
BEGIN:VEVENT
UID:event182@Online-Magazin SCHNAPPEN.AT: die interessanten Seiten des Lebe
 ns
DTSTAMP:20260425T121918Z
CATEGORIES:Wir berichten über...\, Veranstaltungen
DESCRIPTION:Picture On Festival 2026 Bildein \nKategorie: Wir berichten übe
 r...\, Veranstaltungen\nICS-Link: https://schnappen.at/oesterreich/index.p
 hp?option=com_jem&view=event&id=182:picture-on\n
DTSTART;VALUE=DATE:20260807
DTEND;VALUE=DATE:20260809
LOCATION:Bildein\,Alte Pinka 1\,7521 Bildein
SUMMARY:Picture On Festival 2026 Bildein 
URL:https://schnappen.at/oesterreich/index.php?option=com_jem&view=event&id
 =182:picture-on
END:VEVENT
END:VCALENDAR