BEGIN:VCALENDAR
VERSION:2.0
PRODID:-//81.88.36.52//NONSGML kigkonsult.se iCalcreator 2.20//
CALSCALE:GREGORIAN
METHOD:PUBLISH
X-WR-TIMEZONE:Europe/Vienna
BEGIN:VEVENT
UID:event1829@Online-Magazin SCHNAPPEN.AT: die interessanten Seiten des Leb
 ens
DTSTAMP:20260425T121630Z
CATEGORIES:Termine noch offen
DESCRIPTION:Adventzauber in den Mannersdorfer Kellergassen\nKategorie: Term
 ine noch offen\nICS-Link: https://schnappen.at/oesterreich/index.php?optio
 n=com_jem&view=event&id=1829:advent-mannersdorf\n
DTSTART;VALUE=DATE:20261128
DTEND;VALUE=DATE:20261130
SUMMARY:Adventzauber in den Mannersdorfer Kellergassen
URL:https://schnappen.at/oesterreich/index.php?option=com_jem&view=event&id
 =1829:advent-mannersdorf
END:VEVENT
END:VCALENDAR