BEGIN:VCALENDAR
VERSION:2.0
PRODID:-//81.88.36.52//NONSGML kigkonsult.se iCalcreator 2.20//
CALSCALE:GREGORIAN
METHOD:PUBLISH
X-WR-TIMEZONE:Europe/Vienna
BEGIN:VEVENT
UID:event1825@Online-Magazin SCHNAPPEN.AT: die interessanten Seiten des Leb
 ens
DTSTAMP:20260425T122122Z
CATEGORIES:Termine noch offen
DESCRIPTION:Roter Nelken Ball\nKategorie: Termine noch offen\nICS-Link: htt
 ps://schnappen.at/oesterreich/index.php?option=com_jem&view=event&id=1825:
 roter-nelken-ball\n
DTSTART;VALUE=DATE:20270320
DTEND;VALUE=DATE:20270321
SUMMARY:Roter Nelken Ball
URL:https://schnappen.at/oesterreich/index.php?option=com_jem&view=event&id
 =1825:roter-nelken-ball
END:VEVENT
END:VCALENDAR