BEGIN:VCALENDAR
VERSION:2.0
PRODID:-//81.88.36.52//NONSGML kigkonsult.se iCalcreator 2.20//
CALSCALE:GREGORIAN
METHOD:PUBLISH
X-WR-TIMEZONE:Europe/Vienna
BEGIN:VEVENT
UID:event1823@Online-Magazin SCHNAPPEN.AT: die interessanten Seiten des Leb
 ens
DTSTAMP:20260425T134118Z
CATEGORIES:Messeveranstaltungen im Messekalender
DESCRIPTION:absolut allrad in Salzburg\nKategorie: Messeveranstaltungen im 
 Messekalender\nICS-Link: https://schnappen.at/oesterreich/index.php?option
 =com_jem&view=event&id=1823:absolut-allrad\n
DTSTART;VALUE=DATE:20270218
DTEND;VALUE=DATE:20270222
LOCATION:Messezentrum Salzburg\,Am Messezentrum 1\,5020 Salzburg
SUMMARY:absolut allrad in Salzburg
URL:https://schnappen.at/oesterreich/index.php?option=com_jem&view=event&id
 =1823:absolut-allrad
END:VEVENT
END:VCALENDAR