BEGIN:VCALENDAR
VERSION:2.0
PRODID:-//81.88.36.52//NONSGML kigkonsult.se iCalcreator 2.20//
CALSCALE:GREGORIAN
METHOD:PUBLISH
X-WR-TIMEZONE:Europe/Vienna
BEGIN:VEVENT
UID:event1821@Online-Magazin SCHNAPPEN.AT: die interessanten Seiten des Leb
 ens
DTSTAMP:20260425T134552Z
CATEGORIES:Messeveranstaltungen im Messekalender
DESCRIPTION:Bauen+Wohnen Salzburg\nKategorie: Messeveranstaltungen im Messe
 kalender\nICS-Link: https://schnappen.at/oesterreich/index.php?option=com_
 jem&view=event&id=1821:bauen-wohnen-salzburg\n
DTSTART;VALUE=DATE:20270121
DTEND;VALUE=DATE:20270125
LOCATION:Messezentrum Salzburg\,Am Messezentrum 1\,5020 Salzburg
SUMMARY:Bauen+Wohnen Salzburg
URL:https://schnappen.at/oesterreich/index.php?option=com_jem&view=event&id
 =1821:bauen-wohnen-salzburg
END:VEVENT
END:VCALENDAR