BEGIN:VCALENDAR
VERSION:2.0
PRODID:-//81.88.36.52//NONSGML kigkonsult.se iCalcreator 2.20//
CALSCALE:GREGORIAN
METHOD:PUBLISH
X-WR-TIMEZONE:Europe/Vienna
BEGIN:VEVENT
UID:event1819@Online-Magazin SCHNAPPEN.AT: die interessanten Seiten des Leb
 ens
DTSTAMP:20260425T122118Z
CATEGORIES:Veranstaltungen
DESCRIPTION:Martiniloben in Podersdorf am See\nKategorie: Veranstaltungen\n
 ICS-Link: https://schnappen.at/oesterreich/index.php?option=com_jem&view=e
 vent&id=1819:winzerfest-podersdorf\n
DTSTART;VALUE=DATE:20261113
DTEND;VALUE=DATE:20261117
SUMMARY:Martiniloben in Podersdorf am See
URL:https://schnappen.at/oesterreich/index.php?option=com_jem&view=event&id
 =1819:winzerfest-podersdorf
END:VEVENT
END:VCALENDAR