BEGIN:VCALENDAR
VERSION:2.0
PRODID:-//81.88.36.52//NONSGML kigkonsult.se iCalcreator 2.20//
CALSCALE:GREGORIAN
METHOD:PUBLISH
X-WR-TIMEZONE:Europe/Vienna
BEGIN:VEVENT
UID:event1807@Online-Magazin SCHNAPPEN.AT: die interessanten Seiten des Leb
 ens
DTSTAMP:20260425T121952Z
CATEGORIES:Termine noch offen
DESCRIPTION:Theaterball in Salzburg\nKategorie: Termine noch offen\nICS-Lin
 k: https://schnappen.at/oesterreich/index.php?option=com_jem&view=event&id
 =1807:theaterball\n
DTSTART;VALUE=DATE:20270206
DTEND;VALUE=DATE:20270207
SUMMARY:Theaterball in Salzburg
URL:https://schnappen.at/oesterreich/index.php?option=com_jem&view=event&id
 =1807:theaterball
END:VEVENT
END:VCALENDAR