BEGIN:VCALENDAR
VERSION:2.0
PRODID:-//81.88.36.52//NONSGML kigkonsult.se iCalcreator 2.20//
CALSCALE:GREGORIAN
METHOD:PUBLISH
X-WR-TIMEZONE:Europe/Vienna
BEGIN:VEVENT
UID:event1800@Online-Magazin SCHNAPPEN.AT: die interessanten Seiten des Leb
 ens
DTSTAMP:20260425T122122Z
CATEGORIES:Termine noch offen
DESCRIPTION:Lanzenkirchner Bauernball\nKategorie: Termine noch offen\nICS-L
 ink: https://schnappen.at/oesterreich/index.php?option=com_jem&view=event&
 id=1800:bauernball-lanzenkirchen\n
DTSTART;TZID=Europe/Vienna:20270213T200000
DTEND;TZID=Europe/Vienna:20270213T200000
LOCATION:Lanzenkirchen Gemeindesaal\,Schulgasse 6\,2821 Lanzenkirchen
SUMMARY:Lanzenkirchner Bauernball
URL:https://schnappen.at/oesterreich/index.php?option=com_jem&view=event&id
 =1800:bauernball-lanzenkirchen
END:VEVENT
END:VCALENDAR