BEGIN:VCALENDAR
VERSION:2.0
PRODID:-//81.88.36.52//NONSGML kigkonsult.se iCalcreator 2.20//
CALSCALE:GREGORIAN
METHOD:PUBLISH
X-WR-TIMEZONE:Europe/Vienna
BEGIN:VEVENT
UID:event179@Online-Magazin SCHNAPPEN.AT: die interessanten Seiten des Lebe
 ns
DTSTAMP:20260425T121829Z
CATEGORIES:Veranstaltungen
DESCRIPTION:Weinfest Mödling 2026\nKategorie: Veranstaltungen\nICS-Link: ht
 tps://schnappen.at/oesterreich/index.php?option=com_jem&view=event&id=179:
 weinfest\n
DTSTART;VALUE=DATE:20260724
DTEND;VALUE=DATE:20260803
LOCATION:Mödling\,Zentrum\,2340 Mödling
SUMMARY:Weinfest Mödling 2026
URL:https://schnappen.at/oesterreich/index.php?option=com_jem&view=event&id
 =179:weinfest
END:VEVENT
END:VCALENDAR