BEGIN:VCALENDAR
VERSION:2.0
PRODID:-//81.88.36.52//NONSGML kigkonsult.se iCalcreator 2.20//
CALSCALE:GREGORIAN
METHOD:PUBLISH
X-WR-TIMEZONE:Europe/Vienna
BEGIN:VEVENT
UID:event1797@Online-Magazin SCHNAPPEN.AT: die interessanten Seiten des Leb
 ens
DTSTAMP:20260425T121822Z
CATEGORIES:Veranstaltungen
DESCRIPTION:Oldtimer: Motorräder-\, Moped- und Fahrräder-Ausfahrt \nKategor
 ie: Veranstaltungen\nICS-Link: https://schnappen.at/oesterreich/index.php?
 option=com_jem&view=event&id=1797:motorradtreffen-oldtimer\n
DTSTART;VALUE=DATE:20260501
DTEND;VALUE=DATE:20260502
SUMMARY:Oldtimer: Motorräder-\, Moped- und Fahrräder-Ausfahrt 
URL:https://schnappen.at/oesterreich/index.php?option=com_jem&view=event&id
 =1797:motorradtreffen-oldtimer
END:VEVENT
END:VCALENDAR