BEGIN:VCALENDAR
VERSION:2.0
PRODID:-//81.88.36.52//NONSGML kigkonsult.se iCalcreator 2.20//
CALSCALE:GREGORIAN
METHOD:PUBLISH
X-WR-TIMEZONE:Europe/Vienna
BEGIN:VEVENT
UID:event1771@Online-Magazin SCHNAPPEN.AT: die interessanten Seiten des Leb
 ens
DTSTAMP:20260425T105605Z
CATEGORIES:Termine noch offen
DESCRIPTION:Charity Ball an der Diplomatischen Akademie Wien \nKategorie: T
 ermine noch offen\nICS-Link: https://schnappen.at/oesterreich/index.php?op
 tion=com_jem&view=event&id=1771:charity-ball\n
DTSTART;VALUE=DATE:20270410
DTEND;VALUE=DATE:20270411
SUMMARY:Charity Ball an der Diplomatischen Akademie Wien 
URL:https://schnappen.at/oesterreich/index.php?option=com_jem&view=event&id
 =1771:charity-ball
END:VEVENT
END:VCALENDAR