BEGIN:VCALENDAR
VERSION:2.0
PRODID:-//81.88.36.52//NONSGML kigkonsult.se iCalcreator 2.20//
CALSCALE:GREGORIAN
METHOD:PUBLISH
X-WR-TIMEZONE:Europe/Vienna
BEGIN:VEVENT
UID:event1768@Online-Magazin SCHNAPPEN.AT: die interessanten Seiten des Leb
 ens
DTSTAMP:20260425T121936Z
CATEGORIES:Heurigentermine\, Veranstaltungen
DESCRIPTION:Wachauer Weinfrühling\nKategorie: Heurigentermine\, Veranstaltu
 ngen\nICS-Link: https://schnappen.at/oesterreich/index.php?option=com_jem&
 view=event&id=1768:weissenkirchen\n
DTSTART;VALUE=DATE:20260502
DTEND;VALUE=DATE:20260504
SUMMARY:Wachauer Weinfrühling
URL:https://schnappen.at/oesterreich/index.php?option=com_jem&view=event&id
 =1768:weissenkirchen
END:VEVENT
END:VCALENDAR