BEGIN:VCALENDAR
VERSION:2.0
PRODID:-//81.88.36.52//NONSGML kigkonsult.se iCalcreator 2.20//
CALSCALE:GREGORIAN
METHOD:PUBLISH
X-WR-TIMEZONE:Europe/Vienna
BEGIN:VEVENT
UID:event1765@Online-Magazin SCHNAPPEN.AT: die interessanten Seiten des Leb
 ens
DTSTAMP:20260425T134317Z
CATEGORIES:Termine noch offen
DESCRIPTION:Hauptstadtball St. Pölten\nKategorie: Termine noch offen\nICS-L
 ink: https://schnappen.at/oesterreich/index.php?option=com_jem&view=event&
 id=1765:hauptstadtball\n
DTSTART;VALUE=DATE:20270109
DTEND;VALUE=DATE:20270110
LOCATION:VAZ St. Pölten\,Kelsengasse 1\,3100 St. Pölten
SUMMARY:Hauptstadtball St. Pölten
URL:https://schnappen.at/oesterreich/index.php?option=com_jem&view=event&id
 =1765:hauptstadtball
END:VEVENT
END:VCALENDAR