BEGIN:VCALENDAR
VERSION:2.0
PRODID:-//81.88.36.52//NONSGML kigkonsult.se iCalcreator 2.20//
CALSCALE:GREGORIAN
METHOD:PUBLISH
X-WR-TIMEZONE:Europe/Vienna
BEGIN:VEVENT
UID:event1748@Online-Magazin SCHNAPPEN.AT: die interessanten Seiten des Leb
 ens
DTSTAMP:20260425T134037Z
CATEGORIES:Wir berichten über...\, Bauernmarkt & Adventmaerkte
DESCRIPTION:Wintermarkt am Riesenradplatz im Prater\nKategorie: Wir bericht
 en über...\, Bauernmarkt & Adventmaerkte\nICS-Link: https://schnappen.at/o
 esterreich/index.php?option=com_jem&view=event&id=1748:wintermarkt\n
DTSTART;VALUE=DATE:20261127
DTEND;VALUE=DATE:20270104
LOCATION:Prater Wien\,Prater\,1020 Wien
SUMMARY:Wintermarkt am Riesenradplatz im Prater
URL:https://schnappen.at/oesterreich/index.php?option=com_jem&view=event&id
 =1748:wintermarkt
END:VEVENT
END:VCALENDAR