BEGIN:VCALENDAR
VERSION:2.0
PRODID:-//81.88.36.52//NONSGML kigkonsult.se iCalcreator 2.20//
CALSCALE:GREGORIAN
METHOD:PUBLISH
X-WR-TIMEZONE:Europe/Vienna
BEGIN:VEVENT
UID:event1741@Online-Magazin SCHNAPPEN.AT: die interessanten Seiten des Leb
 ens
DTSTAMP:20260425T105356Z
CATEGORIES:Veranstaltungen
DESCRIPTION:Iron Maiden\nKategorie: Veranstaltungen\nICS-Link: https://schn
 appen.at/oesterreich/index.php?option=com_jem&view=event&id=1741:iron-maid
 en\n
DTSTART;VALUE=DATE:20260613
DTEND;VALUE=DATE:20260614
LOCATION:Ernst Happel Stadion\,Meiereistr. 7\,1020 Wien
SUMMARY:Iron Maiden
URL:https://schnappen.at/oesterreich/index.php?option=com_jem&view=event&id
 =1741:iron-maiden
END:VEVENT
END:VCALENDAR