BEGIN:VCALENDAR
VERSION:2.0
PRODID:-//81.88.36.52//NONSGML kigkonsult.se iCalcreator 2.20//
CALSCALE:GREGORIAN
METHOD:PUBLISH
X-WR-TIMEZONE:Europe/Vienna
BEGIN:VEVENT
UID:event1728@Online-Magazin SCHNAPPEN.AT: die interessanten Seiten des Leb
 ens
DTSTAMP:20260425T121648Z
CATEGORIES:Termine noch offen
DESCRIPTION:No Problem Ball in Baden\nKategorie: Termine noch offen\nICS-Li
 nk: https://schnappen.at/oesterreich/index.php?option=com_jem&view=event&i
 d=1728:no-problem\n
DTSTART;VALUE=DATE:20270122
DTEND;VALUE=DATE:20270123
LOCATION:Casino Baden\,Kaiser Franz Ring 1\,2500  Baden
SUMMARY:No Problem Ball in Baden
URL:https://schnappen.at/oesterreich/index.php?option=com_jem&view=event&id
 =1728:no-problem
END:VEVENT
END:VCALENDAR