BEGIN:VCALENDAR
VERSION:2.0
PRODID:-//81.88.36.52//NONSGML kigkonsult.se iCalcreator 2.20//
CALSCALE:GREGORIAN
METHOD:PUBLISH
X-WR-TIMEZONE:Europe/Vienna
BEGIN:VEVENT
UID:event1703@Online-Magazin SCHNAPPEN.AT: die interessanten Seiten des Leb
 ens
DTSTAMP:20260425T121826Z
CATEGORIES:Veranstaltungen
DESCRIPTION:Al Cook & his original Al Cook Bluesband\nKategorie: Veranstalt
 ungen\nICS-Link: https://schnappen.at/oesterreich/index.php?option=com_jem
 &view=event&id=1703:al-cook\n
DTSTART;TZID=Europe/Vienna:20261010T210000
DTEND;TZID=Europe/Vienna:20261010T210000
SUMMARY:Al Cook & his original Al Cook Bluesband
URL:https://schnappen.at/oesterreich/index.php?option=com_jem&view=event&id
 =1703:al-cook
END:VEVENT
END:VCALENDAR