BEGIN:VCALENDAR
VERSION:2.0
PRODID:-//81.88.36.52//NONSGML kigkonsult.se iCalcreator 2.20//
CALSCALE:GREGORIAN
METHOD:PUBLISH
X-WR-TIMEZONE:Europe/Vienna
BEGIN:VEVENT
UID:event1697@Online-Magazin SCHNAPPEN.AT: die interessanten Seiten des Leb
 ens
DTSTAMP:20260425T122142Z
CATEGORIES:Veranstaltungen
DESCRIPTION:Grossstadtgeflüster in Österreich und Deutschland\nKategorie: V
 eranstaltungen\nICS-Link: https://schnappen.at/oesterreich/index.php?optio
 n=com_jem&view=event&id=1697:grossstadtgefluester\n
DTSTART;VALUE=DATE:20260716
DTEND;VALUE=DATE:20260717
SUMMARY:Grossstadtgeflüster in Österreich und Deutschland
URL:https://schnappen.at/oesterreich/index.php?option=com_jem&view=event&id
 =1697:grossstadtgefluester
END:VEVENT
END:VCALENDAR