BEGIN:VCALENDAR
VERSION:2.0
PRODID:-//81.88.36.52//NONSGML kigkonsult.se iCalcreator 2.20//
CALSCALE:GREGORIAN
METHOD:PUBLISH
X-WR-TIMEZONE:Europe/Vienna
BEGIN:VEVENT
UID:event1696@Online-Magazin SCHNAPPEN.AT: die interessanten Seiten des Leb
 ens
DTSTAMP:20260425T121918Z
CATEGORIES:Veranstaltungen
DESCRIPTION:Schmutzki in Österreich und Deutschland\nKategorie: Veranstaltu
 ngen\nICS-Link: https://schnappen.at/oesterreich/index.php?option=com_jem&
 view=event&id=1696:schmutzki\n
DTSTART;VALUE=DATE:20260829
DTEND;VALUE=DATE:20260830
SUMMARY:Schmutzki in Österreich und Deutschland
URL:https://schnappen.at/oesterreich/index.php?option=com_jem&view=event&id
 =1696:schmutzki
END:VEVENT
END:VCALENDAR