BEGIN:VCALENDAR
VERSION:2.0
PRODID:-//81.88.36.52//NONSGML kigkonsult.se iCalcreator 2.20//
CALSCALE:GREGORIAN
METHOD:PUBLISH
X-WR-TIMEZONE:Europe/Vienna
BEGIN:VEVENT
UID:event1691@Online-Magazin SCHNAPPEN.AT: die interessanten Seiten des Leb
 ens
DTSTAMP:20260425T121942Z
CATEGORIES:Veranstaltungen
DESCRIPTION:Schandmaul in Österreich und Deutschland\nKategorie: Veranstalt
 ungen\nICS-Link: https://schnappen.at/oesterreich/index.php?option=com_jem
 &view=event&id=1691:schandmaul\n
DTSTART;TZID=Europe/Vienna:20260904T200000
DTEND;TZID=Europe/Vienna:20260904T200000
SUMMARY:Schandmaul in Österreich und Deutschland
URL:https://schnappen.at/oesterreich/index.php?option=com_jem&view=event&id
 =1691:schandmaul
END:VEVENT
END:VCALENDAR