BEGIN:VCALENDAR
VERSION:2.0
PRODID:-//81.88.36.52//NONSGML kigkonsult.se iCalcreator 2.20//
CALSCALE:GREGORIAN
METHOD:PUBLISH
X-WR-TIMEZONE:Europe/Vienna
BEGIN:VEVENT
UID:event1681@Online-Magazin SCHNAPPEN.AT: die interessanten Seiten des Leb
 ens
DTSTAMP:20260425T121952Z
CATEGORIES:Termine noch offen
DESCRIPTION:Klassik am Dom 2026 in Linz\nKategorie: Termine noch offen\nICS
 -Link: https://schnappen.at/oesterreich/index.php?option=com_jem&view=even
 t&id=1681:klassik-am-dom\n
DTSTART;VALUE=DATE:20260710
DTEND;VALUE=DATE:20260809
LOCATION:Mariendom Linz\,Herrenstraße 26\,4020 Linz
SUMMARY:Klassik am Dom 2026 in Linz
URL:https://schnappen.at/oesterreich/index.php?option=com_jem&view=event&id
 =1681:klassik-am-dom
END:VEVENT
END:VCALENDAR