BEGIN:VCALENDAR
VERSION:2.0
PRODID:-//81.88.36.52//NONSGML kigkonsult.se iCalcreator 2.20//
CALSCALE:GREGORIAN
METHOD:PUBLISH
X-WR-TIMEZONE:Europe/Vienna
BEGIN:VEVENT
UID:event1665@Online-Magazin SCHNAPPEN.AT: die interessanten Seiten des Leb
 ens
DTSTAMP:20260425T121806Z
CATEGORIES:Veranstaltungen
DESCRIPTION:Mark Forster Tour \nKategorie: Veranstaltungen\nICS-Link: https
 ://schnappen.at/oesterreich/index.php?option=com_jem&view=event&id=1665:ma
 rk-forster\n
DTSTART;TZID=Europe/Vienna:20260705T200000
DTEND;TZID=Europe/Vienna:20260705T200000
SUMMARY:Mark Forster Tour 
URL:https://schnappen.at/oesterreich/index.php?option=com_jem&view=event&id
 =1665:mark-forster
END:VEVENT
END:VCALENDAR