BEGIN:VCALENDAR
VERSION:2.0
PRODID:-//81.88.36.52//NONSGML kigkonsult.se iCalcreator 2.20//
CALSCALE:GREGORIAN
METHOD:PUBLISH
X-WR-TIMEZONE:Europe/Vienna
BEGIN:VEVENT
UID:event1663@Online-Magazin SCHNAPPEN.AT: die interessanten Seiten des Leb
 ens
DTSTAMP:20260425T231706Z
CATEGORIES:Termine noch offen
DESCRIPTION:Pottendorf: Schlosspark & Rother Hof\nKategorie: Termine noch o
 ffen\nICS-Link: https://schnappen.at/oesterreich/index.php?option=com_jem&
 view=event&id=1663:schloss-pottendorf\n
DTSTART;VALUE=DATE:20251129
DTEND;VALUE=DATE:20251130
SUMMARY:Pottendorf: Schlosspark & Rother Hof
URL:https://schnappen.at/oesterreich/index.php?option=com_jem&view=event&id
 =1663:schloss-pottendorf
END:VEVENT
END:VCALENDAR