BEGIN:VCALENDAR
VERSION:2.0
PRODID:-//81.88.36.52//NONSGML kigkonsult.se iCalcreator 2.20//
CALSCALE:GREGORIAN
METHOD:PUBLISH
X-WR-TIMEZONE:Europe/Vienna
BEGIN:VEVENT
UID:event1662@Online-Magazin SCHNAPPEN.AT: die interessanten Seiten des Leb
 ens
DTSTAMP:20260425T121940Z
CATEGORIES:Veranstaltungen
DESCRIPTION:Stefan Leonhardsberger Kabarett in Österreich und Deutschland\n
 Kategorie: Veranstaltungen\nICS-Link: https://schnappen.at/oesterreich/ind
 ex.php?option=com_jem&view=event&id=1662:leonhardsberger\n
DTSTART;VALUE=DATE:20260507
DTEND;VALUE=DATE:20260508
LOCATION:Kabarett Niedermair\,Lenaugasse 1A\,1080 Wien
SUMMARY:Stefan Leonhardsberger Kabarett in Österreich und Deutschland
URL:https://schnappen.at/oesterreich/index.php?option=com_jem&view=event&id
 =1662:leonhardsberger
END:VEVENT
END:VCALENDAR