BEGIN:VCALENDAR
VERSION:2.0
PRODID:-//81.88.36.52//NONSGML kigkonsult.se iCalcreator 2.20//
CALSCALE:GREGORIAN
METHOD:PUBLISH
X-WR-TIMEZONE:Europe/Vienna
BEGIN:VEVENT
UID:event1656@Online-Magazin SCHNAPPEN.AT: die interessanten Seiten des Leb
 ens
DTSTAMP:20260425T121806Z
CATEGORIES:Veranstaltungen
DESCRIPTION:Josef Hader mit 'Hader on Ice'\nKategorie: Veranstaltungen\nICS
 -Link: https://schnappen.at/oesterreich/index.php?option=com_jem&view=even
 t&id=1656:hader\n
DTSTART;VALUE=DATE:20260502
DTEND;VALUE=DATE:20260503
LOCATION:Orpheum Wien\,Steigenteschgasse 94 b\,1220 Wien
SUMMARY:Josef Hader mit 'Hader on Ice'
URL:https://schnappen.at/oesterreich/index.php?option=com_jem&view=event&id
 =1656:hader
END:VEVENT
END:VCALENDAR