BEGIN:VCALENDAR
VERSION:2.0
PRODID:-//81.88.36.52//NONSGML kigkonsult.se iCalcreator 2.20//
CALSCALE:GREGORIAN
METHOD:PUBLISH
X-WR-TIMEZONE:Europe/Vienna
BEGIN:VEVENT
UID:event1655@Online-Magazin SCHNAPPEN.AT: die interessanten Seiten des Leb
 ens
DTSTAMP:20260425T121824Z
CATEGORIES:Veranstaltungen
DESCRIPTION:Christof Spörk\nKategorie: Veranstaltungen\nICS-Link: https://s
 chnappen.at/oesterreich/index.php?option=com_jem&view=event&id=1655:spoerk
 \n
DTSTART;TZID=Europe/Vienna:20260428T200000
DTEND;TZID=Europe/Vienna:20260428T200000
SUMMARY:Christof Spörk
URL:https://schnappen.at/oesterreich/index.php?option=com_jem&view=event&id
 =1655:spoerk
END:VEVENT
END:VCALENDAR