BEGIN:VCALENDAR
VERSION:2.0
PRODID:-//81.88.36.52//NONSGML kigkonsult.se iCalcreator 2.20//
CALSCALE:GREGORIAN
METHOD:PUBLISH
X-WR-TIMEZONE:Europe/Vienna
BEGIN:VEVENT
UID:event1651@Online-Magazin SCHNAPPEN.AT: die interessanten Seiten des Leb
 ens
DTSTAMP:20260425T121953Z
CATEGORIES:Termine noch offen
DESCRIPTION:Güssinger Faschingskabarett \nKategorie: Termine noch offen\nIC
 S-Link: https://schnappen.at/oesterreich/index.php?option=com_jem&view=eve
 nt&id=1651:guessing-fasching\n
DTSTART;VALUE=DATE:20270121
DTEND;VALUE=DATE:20270125
SUMMARY:Güssinger Faschingskabarett 
URL:https://schnappen.at/oesterreich/index.php?option=com_jem&view=event&id
 =1651:guessing-fasching
END:VEVENT
END:VCALENDAR