BEGIN:VCALENDAR
VERSION:2.0
PRODID:-//81.88.36.52//NONSGML kigkonsult.se iCalcreator 2.20//
CALSCALE:GREGORIAN
METHOD:PUBLISH
X-WR-TIMEZONE:Europe/Vienna
BEGIN:VEVENT
UID:event1650@Online-Magazin SCHNAPPEN.AT: die interessanten Seiten des Leb
 ens
DTSTAMP:20260425T121828Z
CATEGORIES:Wir berichten über...\, Veranstaltungen
DESCRIPTION:Faschingsumzug in Mörbisch\nKategorie: Wir berichten über...\, 
 Veranstaltungen\nICS-Link: https://schnappen.at/oesterreich/index.php?opti
 on=com_jem&view=event&id=1650:fasching-moerbisch\n
DTSTART;VALUE=DATE:20270209
DTEND;VALUE=DATE:20270210
SUMMARY:Faschingsumzug in Mörbisch
URL:https://schnappen.at/oesterreich/index.php?option=com_jem&view=event&id
 =1650:fasching-moerbisch
END:VEVENT
END:VCALENDAR