BEGIN:VCALENDAR
VERSION:2.0
PRODID:-//81.88.36.52//NONSGML kigkonsult.se iCalcreator 2.20//
CALSCALE:GREGORIAN
METHOD:PUBLISH
X-WR-TIMEZONE:Europe/Vienna
BEGIN:VEVENT
UID:event1639@Online-Magazin SCHNAPPEN.AT: die interessanten Seiten des Leb
 ens
DTSTAMP:20260425T122058Z
CATEGORIES:Termine noch offen
DESCRIPTION:Bezirksjägerball in Schattendorf\nKategorie: Termine noch offen
 \nICS-Link: https://schnappen.at/oesterreich/index.php?option=com_jem&view
 =event&id=1639:jaegerball-eisenstadt\n
DTSTART;VALUE=DATE:20270410
DTEND;VALUE=DATE:20270411
SUMMARY:Bezirksjägerball in Schattendorf
URL:https://schnappen.at/oesterreich/index.php?option=com_jem&view=event&id
 =1639:jaegerball-eisenstadt
END:VEVENT
END:VCALENDAR