BEGIN:VCALENDAR
VERSION:2.0
PRODID:-//81.88.36.52//NONSGML kigkonsult.se iCalcreator 2.20//
CALSCALE:GREGORIAN
METHOD:PUBLISH
X-WR-TIMEZONE:Europe/Vienna
BEGIN:VEVENT
UID:event1637@Online-Magazin SCHNAPPEN.AT: die interessanten Seiten des Leb
 ens
DTSTAMP:20260425T122302Z
CATEGORIES:Termine noch offen
DESCRIPTION:Ball der Eisenstädter in der Orangerie Eisenstadt\nKategorie: T
 ermine noch offen\nICS-Link: https://schnappen.at/oesterreich/index.php?op
 tion=com_jem&view=event&id=1637:ball-in-der-orangerie-eisenstadt\n
DTSTART;VALUE=DATE:20270122
DTEND;VALUE=DATE:20270123
LOCATION:Orangerie Schlosspark Eisenstadt\,Glorietteallee\,7000 Eisenstadt
SUMMARY:Ball der Eisenstädter in der Orangerie Eisenstadt
URL:https://schnappen.at/oesterreich/index.php?option=com_jem&view=event&id
 =1637:ball-in-der-orangerie-eisenstadt
END:VEVENT
END:VCALENDAR