BEGIN:VCALENDAR
VERSION:2.0
PRODID:-//81.88.36.52//NONSGML kigkonsult.se iCalcreator 2.20//
CALSCALE:GREGORIAN
METHOD:PUBLISH
X-WR-TIMEZONE:Europe/Vienna
BEGIN:VEVENT
UID:event1621@Online-Magazin SCHNAPPEN.AT: die interessanten Seiten des Leb
 ens
DTSTAMP:20260425T121938Z
CATEGORIES:Veranstaltungen
DESCRIPTION:MetaStadt Open Air\nKategorie: Veranstaltungen\nICS-Link: https
 ://schnappen.at/oesterreich/index.php?option=com_jem&view=event&id=1621:me
 ta-stadt\n
DTSTART;VALUE=DATE:20260724
DTEND;VALUE=DATE:20260725
LOCATION:METAStadt Wien\,Dr. Otto Neurath Gasse 3\,1220  Wien
SUMMARY:MetaStadt Open Air
URL:https://schnappen.at/oesterreich/index.php?option=com_jem&view=event&id
 =1621:meta-stadt
END:VEVENT
END:VCALENDAR