BEGIN:VCALENDAR
VERSION:2.0
PRODID:-//81.88.36.52//NONSGML kigkonsult.se iCalcreator 2.20//
CALSCALE:GREGORIAN
METHOD:PUBLISH
X-WR-TIMEZONE:Europe/Vienna
BEGIN:VEVENT
UID:event1612@Online-Magazin SCHNAPPEN.AT: die interessanten Seiten des Leb
 ens
DTSTAMP:20260425T121936Z
CATEGORIES:Veranstaltungen
DESCRIPTION:Advent- und Neujahrsschwimmen am Neufelder See\nKategorie: Vera
 nstaltungen\nICS-Link: https://schnappen.at/oesterreich/index.php?option=c
 om_jem&view=event&id=1612:neujahrschwimmen\n
DTSTART;VALUE=DATE:20270101
DTEND;VALUE=DATE:20270102
LOCATION:Neufelder See\,Eisenstädter Str. 37\,2492 Neufeld a. d. Leitha
SUMMARY:Advent- und Neujahrsschwimmen am Neufelder See
URL:https://schnappen.at/oesterreich/index.php?option=com_jem&view=event&id
 =1612:neujahrschwimmen
END:VEVENT
END:VCALENDAR