BEGIN:VCALENDAR
VERSION:2.0
PRODID:-//81.88.36.52//NONSGML kigkonsult.se iCalcreator 2.20//
CALSCALE:GREGORIAN
METHOD:PUBLISH
X-WR-TIMEZONE:Europe/Vienna
BEGIN:VEVENT
UID:event160@Online-Magazin SCHNAPPEN.AT: die interessanten Seiten des Lebe
 ns
DTSTAMP:20260424T155441Z
CATEGORIES:Veranstaltungen\, Wir berichten über...
DESCRIPTION:One Love 2026 Wiesen\, das Reggae Festival in Wiesen\nKategorie
 : Veranstaltungen\, Wir berichten über...\nICS-Link: https://schnappen.at/
 oesterreich/index.php?option=com_jem&view=event&id=160:sunsplash\n
DTSTART;VALUE=DATE:20260807
DTEND;VALUE=DATE:20260809
LOCATION:Wiesen Festivalgelände\,Schöllingstraße\,7203 Wiesen
SUMMARY:One Love 2026 Wiesen\, das Reggae Festival in Wiesen
URL:https://schnappen.at/oesterreich/index.php?option=com_jem&view=event&id
 =160:sunsplash
END:VEVENT
END:VCALENDAR