BEGIN:VCALENDAR
VERSION:2.0
PRODID:-//81.88.36.52//NONSGML kigkonsult.se iCalcreator 2.20//
CALSCALE:GREGORIAN
METHOD:PUBLISH
X-WR-TIMEZONE:Europe/Vienna
BEGIN:VEVENT
UID:event1606@Online-Magazin SCHNAPPEN.AT: die interessanten Seiten des Leb
 ens
DTSTAMP:20260425T121954Z
CATEGORIES:Termine noch offen
DESCRIPTION:Ukrainischer Ball\nKategorie: Termine noch offen\nICS-Link: htt
 ps://schnappen.at/oesterreich/index.php?option=com_jem&view=event&id=1606:
 ukrainian-ball\n
DTSTART;VALUE=DATE:20270211
DTEND;VALUE=DATE:20270212
LOCATION:Hofburg Wien\,Michaelerkuppel\,1010 Wien
SUMMARY:Ukrainischer Ball
URL:https://schnappen.at/oesterreich/index.php?option=com_jem&view=event&id
 =1606:ukrainian-ball
END:VEVENT
END:VCALENDAR