BEGIN:VCALENDAR
VERSION:2.0
PRODID:-//81.88.36.52//NONSGML kigkonsult.se iCalcreator 2.20//
CALSCALE:GREGORIAN
METHOD:PUBLISH
X-WR-TIMEZONE:Europe/Vienna
BEGIN:VEVENT
UID:event159@Online-Magazin SCHNAPPEN.AT: die interessanten Seiten des Lebe
 ns
DTSTAMP:20260425T121939Z
CATEGORIES:Wir berichten über...\, Veranstaltungen
DESCRIPTION:Lovely Days Festival 2026 Österreich\nKategorie: Wir berichten 
 über...\, Veranstaltungen\nICS-Link: https://schnappen.at/oesterreich/inde
 x.php?option=com_jem&view=event&id=159:lovely-days\n
DTSTART;VALUE=DATE:20260704
DTEND;VALUE=DATE:20260705
LOCATION:Schloss Esterhazy Eisenstadt\,Esterházyplatz 5\,7000  Eisenstadt
SUMMARY:Lovely Days Festival 2026 Österreich
URL:https://schnappen.at/oesterreich/index.php?option=com_jem&view=event&id
 =159:lovely-days
END:VEVENT
END:VCALENDAR