BEGIN:VCALENDAR
VERSION:2.0
PRODID:-//81.88.36.52//NONSGML kigkonsult.se iCalcreator 2.20//
CALSCALE:GREGORIAN
METHOD:PUBLISH
X-WR-TIMEZONE:Europe/Vienna
BEGIN:VEVENT
UID:event1593@Online-Magazin SCHNAPPEN.AT: die interessanten Seiten des Leb
 ens
DTSTAMP:20260425T121937Z
CATEGORIES:Veranstaltungen
DESCRIPTION:Wiener Sicherheitsfest\nKategorie: Veranstaltungen\nICS-Link: h
 ttps://schnappen.at/oesterreich/index.php?option=com_jem&view=event&id=159
 3:sicherheitsfest\n
DTSTART;VALUE=DATE:20261025
DTEND;VALUE=DATE:20261026
LOCATION:Wien Rathaus\,Rathausplatz 1\,1010 Wien
SUMMARY:Wiener Sicherheitsfest
URL:https://schnappen.at/oesterreich/index.php?option=com_jem&view=event&id
 =1593:sicherheitsfest
END:VEVENT
END:VCALENDAR